BEGIN:VCALENDAR
VERSION:2.0
PRODID:icalendar-ruby
CALSCALE:GREGORIAN
METHOD:PUBLISH
BEGIN:VEVENT
DTSTAMP:20260425T101926Z
UID:75-791683@stmichaelandallangelslondon.ca
DTSTART:20261025T140000Z
DTEND:20261025T150000Z
CLASS:PUBLIC
CREATED:20260424T212639
DESCRIPTION:
LAST-MODIFIED:20260424T212639
LOCATION:
SUMMARY:Holy Eucharist
URL;VALUE=URI:https://stmichaelandallangelslondon.ca/events/holy-eucharist-
 -75/2026-10-25
ATTACH;FILENAME=Sunday Services.jpg;FMTTYPE=image/jpeg:https://dq5pwpg1q8ru
 0.cloudfront.net/2025/12/27/00/13/43/c660dceb-034b-4cbf-9b0c-3b58b84d9a03/
 Sunday%20Services.jpg
END:VEVENT
END:VCALENDAR
