BEGIN:VCALENDAR
VERSION:2.0
PRODID:icalendar-ruby
CALSCALE:GREGORIAN
METHOD:PUBLISH
BEGIN:VEVENT
DTSTAMP:20260423T135954Z
UID:87-722477@stmichaelandallangelslondon.ca
DTSTART:20260425T140000Z
DTEND:20260425T180000Z
CLASS:PUBLIC
CREATED:20260329T160041
DESCRIPTION:
LAST-MODIFIED:20260329T160041
LOCATION:
SUMMARY:Spring Craft and Bake Sale
URL;VALUE=URI:https://stmichaelandallangelslondon.ca/events/spring-craft-an
 d-bake-sale/2026-04-25
ATTACH;FILENAME=2026 Craft fair-FacebkAd.jpg;FMTTYPE=image/jpeg:https://dq5
 pwpg1q8ru0.cloudfront.net/2026/03/29/19/59/13/76a06f9a-6bf4-4bb0-9452-db5f
 84ce5595/2026%20Craft%20fair-FacebkAd.jpg
END:VEVENT
END:VCALENDAR
